BEGIN:VCALENDAR
VERSION:2.0
PRODID:-//Memphis Health and Fitness - ECPv6.15.20//NONSGML v1.0//EN
CALSCALE:GREGORIAN
METHOD:PUBLISH
X-ORIGINAL-URL:https://memphishealthandfitness.com
X-WR-CALDESC:Events for Memphis Health and Fitness
REFRESH-INTERVAL;VALUE=DURATION:PT1H
X-Robots-Tag:noindex
X-PUBLISHED-TTL:PT1H
BEGIN:VTIMEZONE
TZID:UTC
BEGIN:STANDARD
TZOFFSETFROM:+0000
TZOFFSETTO:+0000
TZNAME:UTC
DTSTART:20240101T000000
END:STANDARD
END:VTIMEZONE
BEGIN:VEVENT
DTSTART;TZID=UTC:20250920T073000
DTEND;TZID=UTC:20250920T093000
DTSTAMP:20260422T081557
CREATED:20250730T224147Z
LAST-MODIFIED:20250730T224147Z
UID:13584-1758353400-1758360600@memphishealthandfitness.com
SUMMARY:Memphis Shelby County Airport Authority (MSCAA) is excited to host its inaugural MEM Runway 5K on September 20.
DESCRIPTION:Memphis International Airport (MEM) is excited to host its inaugural MEM Runway 5K on September 20. Participants will have a chance to run on one of MEM’s runways and get a close-up view of aircraft landing and taking off. The uniqueness of this event allows runners to experience the airport grounds\, and rare views of an airport that served nearly 5 million passengers in 2024 and ranks among one of the busiest cargo airports in world. \n2491 Winchester Memphis\, TN 38118 USA \nRegistration cost: Adults $50.14\, Children (ages 3-9) $34.09 \nLink:\nhttps://raceroster.com/events/2025/106000/runway-5k-at-memphis-international-airport
URL:https://memphishealthandfitness.com/event/memphis-shelby-county-airport-authority-mscaa-is-excited-to-host-its-inaugural-mem-runway-5k-on-september-20/
LOCATION:TN
CATEGORIES:Memphis Competition
ATTACH;FMTTYPE=image/jpeg:https://memphishealthandfitness.com/wp-content/uploads/2014/09/runner3.jpg
END:VEVENT
END:VCALENDAR