BEGIN:VCALENDAR
VERSION:2.0
PRODID:-//Memphis Health and Fitness - ECPv6.15.20//NONSGML v1.0//EN
CALSCALE:GREGORIAN
METHOD:PUBLISH
X-WR-CALNAME:Memphis Health and Fitness
X-ORIGINAL-URL:https://memphishealthandfitness.com
X-WR-CALDESC:Events for Memphis Health and Fitness
REFRESH-INTERVAL;VALUE=DURATION:PT1H
X-Robots-Tag:noindex
X-PUBLISHED-TTL:PT1H
BEGIN:VTIMEZONE
TZID:UTC
BEGIN:STANDARD
TZOFFSETFROM:+0000
TZOFFSETTO:+0000
TZNAME:UTC
DTSTART:20240101T000000
END:STANDARD
END:VTIMEZONE
BEGIN:VEVENT
DTSTART;TZID=UTC:20250927T080000
DTEND;TZID=UTC:20250927T103000
DTSTAMP:20260422T112351
CREATED:20250909T204213Z
LAST-MODIFIED:20250909T205420Z
UID:13666-1758960000-1758969000@memphishealthandfitness.com
SUMMARY:Buffalo Run 5K + 15K
DESCRIPTION:  \nSaturday\, September 27\, is the annual Buffalo Run\, presented by Kroger Health. The run will take place at Shelby Farms Park near Hydra Lake. \n \n\n15k Start Time: 8:00 AM\n5k Start Time: 9:00 AM\nAwards: Top finishers in the timed 5k & timed 15k\n\n 
URL:https://memphishealthandfitness.com/event/buffalo-run-5k-15k/
LOCATION:TN
CATEGORIES:Memphis Competition
ATTACH;FMTTYPE=image/gif:https://memphishealthandfitness.com/wp-content/uploads/2025/09/Health-Fitness-Buffalo-5K15K-Ad_600x200.gif
END:VEVENT
END:VCALENDAR